BEGIN:VCALENDAR
VERSION:2.0
PRODID:-//bunbudo.com - ECPv6.15.20//NONSGML v1.0//EN
CALSCALE:GREGORIAN
METHOD:PUBLISH
X-WR-CALNAME:bunbudo.com
X-ORIGINAL-URL:https://bunbudo.com
X-WR-CALDESC:Events for bunbudo.com
REFRESH-INTERVAL;VALUE=DURATION:PT1H
X-Robots-Tag:noindex
X-PUBLISHED-TTL:PT1H
BEGIN:VTIMEZONE
TZID:UTC
BEGIN:STANDARD
TZOFFSETFROM:+0000
TZOFFSETTO:+0000
TZNAME:UTC
DTSTART:20240101T000000
END:STANDARD
END:VTIMEZONE
BEGIN:VEVENT
DTSTART;TZID=UTC:20260201T110000
DTEND;TZID=UTC:20260201T190000
DTSTAMP:20260419T190113
CREATED:20260128T120823Z
LAST-MODIFIED:20260128T120823Z
UID:620-1769943600-1769972400@bunbudo.com
SUMMARY:60:40 写真　古着　雑貨
DESCRIPTION:
URL:https://bunbudo.com/event/6040-%e5%86%99%e7%9c%9f%e3%80%80%e5%8f%a4%e7%9d%80%e3%80%80%e9%9b%91%e8%b2%a8-2/
END:VEVENT
BEGIN:VEVENT
DTSTART;TZID=UTC:20260131T110000
DTEND;TZID=UTC:20260131T190000
DTSTAMP:20260419T190113
CREATED:20260128T120538Z
LAST-MODIFIED:20260128T120538Z
UID:618-1769857200-1769886000@bunbudo.com
SUMMARY:60:40 写真　古着　雑貨
DESCRIPTION:
URL:https://bunbudo.com/event/6040-%e5%86%99%e7%9c%9f%e3%80%80%e5%8f%a4%e7%9d%80%e3%80%80%e9%9b%91%e8%b2%a8/
END:VEVENT
BEGIN:VEVENT
DTSTART;TZID=UTC:20251220T130000
DTEND;TZID=UTC:20251224T190000
DTSTAMP:20260419T190113
CREATED:20251208T074446Z
LAST-MODIFIED:20251208T074744Z
UID:602-1766235600-1766602800@bunbudo.com
SUMMARY:Art Exhibition by Waka
DESCRIPTION:Dec 20 to 24 \nnew drawings and paintings for her second exhibition at Bunbudo! \nspecial music event on Dec 20th!
URL:https://bunbudo.com/event/art-exhibition-by-waka/
END:VEVENT
BEGIN:VEVENT
DTSTART;TZID=UTC:20251009T080000
DTEND;TZID=UTC:20251009T170000
DTSTAMP:20260419T190113
CREATED:20251009T005602Z
LAST-MODIFIED:20251009T005602Z
UID:478-1759996800-1760029200@bunbudo.com
SUMMARY:Test Event
DESCRIPTION:
URL:https://bunbudo.com/event/test-event/
LOCATION:Test\, Japan
END:VEVENT
END:VCALENDAR